BEGIN:VCALENDAR
VERSION:2.0
PRODID:-//Foro Niebla - ECPv6.15.18//NONSGML v1.0//EN
CALSCALE:GREGORIAN
METHOD:PUBLISH
X-WR-CALNAME:Foro Niebla
X-ORIGINAL-URL:https://foroniebla.com
X-WR-CALDESC:Eventos para Foro Niebla
REFRESH-INTERVAL;VALUE=DURATION:PT1H
X-Robots-Tag:noindex
X-PUBLISHED-TTL:PT1H
BEGIN:VTIMEZONE
TZID:America/Mexico_City
BEGIN:DAYLIGHT
TZOFFSETFROM:-0600
TZOFFSETTO:-0500
TZNAME:CDT
DTSTART:20220403T080000
END:DAYLIGHT
BEGIN:STANDARD
TZOFFSETFROM:-0500
TZOFFSETTO:-0600
TZNAME:CST
DTSTART:20221030T070000
END:STANDARD
END:VTIMEZONE
BEGIN:VEVENT
DTSTART;TZID=America/Mexico_City:20230817T190000
DTEND;TZID=America/Mexico_City:20230817T203000
DTSTAMP:20260425T094304
CREATED:20230816T014842Z
LAST-MODIFIED:20230816T014842Z
UID:1090-1692298800-1692304200@foroniebla.com
SUMMARY:Carlos Pancardo Guitarra en América
DESCRIPTION:Carlos Pancardo Guitarra en América
URL:https://foroniebla.com/eventos/carlos-pancardo-guitarra-en-america/
CATEGORIES:Música
ATTACH;FMTTYPE=image/png:https://foroniebla.com/wp-content/uploads/2023/08/CarlosPancardo.png
END:VEVENT
BEGIN:VEVENT
DTSTART;TZID=America/Mexico_City:20230818T200000
DTEND;TZID=America/Mexico_City:20230820T220000
DTSTAMP:20260425T094304
CREATED:20230816T015300Z
LAST-MODIFIED:20230816T015320Z
UID:1093-1692388800-1692568800@foroniebla.com
SUMMARY:Microteatro Segunda Temporada 2023
DESCRIPTION:Microteatro Segunda Temporada 2023
URL:https://foroniebla.com/eventos/microteatro-segunda-temporada-2023/
CATEGORIES:Teatro
ATTACH;FMTTYPE=image/jpeg:https://foroniebla.com/wp-content/uploads/2023/08/366651016_599539505694778_4440610014859219756_n.jpeg
END:VEVENT
BEGIN:VEVENT
DTSTART;TZID=America/Mexico_City:20230905T200000
DTEND;TZID=America/Mexico_City:20230905T213000
DTSTAMP:20260425T094304
CREATED:20230823T190416Z
LAST-MODIFIED:20230823T190416Z
UID:1104-1693944000-1693949400@foroniebla.com
SUMMARY:Mil Puentes en Concierto
DESCRIPTION:
URL:https://foroniebla.com/eventos/mil-puentes-en-concierto/
CATEGORIES:Música
ATTACH;FMTTYPE=image/jpeg:https://foroniebla.com/wp-content/uploads/2023/08/MilPuentes.jpg
END:VEVENT
BEGIN:VEVENT
DTSTART;TZID=America/Mexico_City:20240302T200000
DTEND;TZID=America/Mexico_City:20240302T220000
DTSTAMP:20260425T094304
CREATED:20240216T004118Z
LAST-MODIFIED:20240302T175134Z
UID:1109-1709409600-1709416800@foroniebla.com
SUMMARY:Recoveco
DESCRIPTION:
URL:https://foroniebla.com/eventos/recoveco/
CATEGORIES:Música
ATTACH;FMTTYPE=image/jpeg:https://foroniebla.com/wp-content/uploads/2024/02/Recoveco_2Marzo24.jpg
END:VEVENT
BEGIN:VEVENT
DTSTART;TZID=America/Mexico_City:20240312T110000
DTEND;TZID=America/Mexico_City:20240413T180000
DTSTAMP:20260425T094304
CREATED:20240311T191726Z
LAST-MODIFIED:20240311T191851Z
UID:1153-1710241200-1713031200@foroniebla.com
SUMMARY:Travesía un viaje desde el grafito
DESCRIPTION:Entrada gratuita \nSi deseas realizar algún donativo en la parte de abajo podrás realizarlo.
URL:https://foroniebla.com/eventos/travesia-un-viaje-desde-el-grafito/
LOCATION:Foro Niebla\, Sur 11 #685 Col Centro\, Orizaba\, Veracruz\, 94300\, Mexico
CATEGORIES:Pintura-Escultura
ATTACH;FMTTYPE=image/jpeg:https://foroniebla.com/wp-content/uploads/2024/03/WhatsApp-Image-2024-02-28-at-15.43.05.jpeg
END:VEVENT
BEGIN:VEVENT
DTSTART;TZID=America/Mexico_City:20240314T200000
DTEND;TZID=America/Mexico_City:20240314T220000
DTSTAMP:20260425T094304
CREATED:20240311T182726Z
LAST-MODIFIED:20240311T182801Z
UID:1147-1710446400-1710453600@foroniebla.com
SUMMARY:La lección
DESCRIPTION:
URL:https://foroniebla.com/eventos/la-leccion/
LOCATION:Foro Niebla\, Sur 11 #685 Col Centro\, Orizaba\, Veracruz\, 94300\, Mexico
CATEGORIES:Teatro
ATTACH;FMTTYPE=image/jpeg:https://foroniebla.com/wp-content/uploads/2024/03/laleccion.jpg
END:VEVENT
BEGIN:VEVENT
DTSTART;TZID=America/Mexico_City:20240413T200000
DTEND;TZID=America/Mexico_City:20240413T220000
DTSTAMP:20260425T094304
CREATED:20240409T171432Z
LAST-MODIFIED:20240409T171546Z
UID:1172-1713038400-1713045600@foroniebla.com
SUMMARY:Ahab en concierto
DESCRIPTION:
URL:https://foroniebla.com/eventos/ahab-en-concierto/
LOCATION:Foro Niebla\, Sur 11 #685 Col Centro\, Orizaba\, Veracruz\, 94300\, Mexico
CATEGORIES:Música
ATTACH;FMTTYPE=image/jpeg:https://foroniebla.com/wp-content/uploads/2024/04/Cartel_Ahab.jpg
END:VEVENT
BEGIN:VEVENT
DTSTART;TZID=America/Mexico_City:20240427T200000
DTEND;TZID=America/Mexico_City:20240427T220000
DTSTAMP:20260425T094304
CREATED:20240422T164441Z
LAST-MODIFIED:20240422T164441Z
UID:1176-1714248000-1714255200@foroniebla.com
SUMMARY:Cristobal Cortés Group en Concierto
DESCRIPTION:Dentro del marco del día Internacional del JAZZ\, presentamos a la banda de la casa en vivo\, con Chane Hernández en el sax como invitado especial.
URL:https://foroniebla.com/eventos/cristobal-cortes-group-en-concierto/
LOCATION:Foro Niebla\, Sur 11 #685 Col Centro\, Orizaba\, Veracruz\, 94300\, Mexico
CATEGORIES:Arte,Música
ATTACH;FMTTYPE=image/jpeg:https://foroniebla.com/wp-content/uploads/2024/04/Cartes-Cristobal-Cortes_Abril.jpg
END:VEVENT
BEGIN:VEVENT
DTSTART;TZID=America/Mexico_City:20240430T210000
DTEND;TZID=America/Mexico_City:20240430T230000
DTSTAMP:20260425T094304
CREATED:20240422T164821Z
LAST-MODIFIED:20240422T164821Z
UID:1179-1714510800-1714518000@foroniebla.com
SUMMARY:L4 Mulaka Jazz en vivo
DESCRIPTION:
URL:https://foroniebla.com/eventos/l4-mulaka-jazz-en-vivo/
LOCATION:Foro Niebla\, Sur 11 #685 Col Centro\, Orizaba\, Veracruz\, 94300\, Mexico
CATEGORIES:Arte,Música
ATTACH;FMTTYPE=image/jpeg:https://foroniebla.com/wp-content/uploads/2024/04/30deABril24.jpg
END:VEVENT
BEGIN:VEVENT
DTSTART;TZID=America/Mexico_City:20241205T080000
DTEND;TZID=America/Mexico_City:20250104T170000
DTSTAMP:20260425T094304
CREATED:20241205T185611Z
LAST-MODIFIED:20241205T185611Z
UID:1275-1733385600-1736010000@foroniebla.com
SUMMARY:Yolpaki Yolkameh
DESCRIPTION:Yolpaki Yolkameh \nExhibición del artista veracruzano Cuauhtemoc Wetzka
URL:https://foroniebla.com/eventos/yolpaki-yolkameh/
CATEGORIES:Pintura-Escultura
ATTACH;FMTTYPE=image/png:https://foroniebla.com/wp-content/uploads/2024/12/Cartel_Arte_CuauhtemocWetzka.png
END:VEVENT
BEGIN:VEVENT
DTSTART;TZID=America/Mexico_City:20241206T210000
DTEND;TZID=America/Mexico_City:20241206T223000
DTSTAMP:20260425T094304
CREATED:20241119T030854Z
LAST-MODIFIED:20241119T030854Z
UID:1207-1733518800-1733524200@foroniebla.com
SUMMARY:Tim Mayer - Club de Jazz Noviembre 2024
DESCRIPTION:Tim Mayer se graduó de Berklee College of Music en 1996\, y desde entonces\, ha sido activo como artista\, compartiendo el escenario con artistas conocidos en el ámbito de jazz como Maynard Ferguson\, Slide Hampton\, John Faddis\, Jerry Bergonzi\, NickBrignola\, Danilo Pérez\, Arturo Sandoval y muchos mas. \n 
URL:https://foroniebla.com/eventos/tim-mayer-club-de-jazz-noviembre-2024/
CATEGORIES:Arte,Música
ATTACH;FMTTYPE=image/jpeg:https://foroniebla.com/wp-content/uploads/2024/11/TimMayer.jpg
END:VEVENT
BEGIN:VEVENT
DTSTART;TZID=America/Mexico_City:20250122T080000
DTEND;TZID=America/Mexico_City:20250125T170000
DTSTAMP:20260425T094304
CREATED:20250123T033739Z
LAST-MODIFIED:20250123T033739Z
UID:1313-1737532800-1737824400@foroniebla.com
SUMMARY:Ana Pau & Cristobal Cortés Group
DESCRIPTION:
URL:https://foroniebla.com/eventos/ana-pau-cristobal-cortes-group/
CATEGORIES:Música
END:VEVENT
BEGIN:VEVENT
DTSTART;TZID=America/Mexico_City:20250228T210000
DTEND;TZID=America/Mexico_City:20250228T230000
DTSTAMP:20260425T094304
CREATED:20250214T030843Z
LAST-MODIFIED:20250214T030843Z
UID:1332-1740776400-1740783600@foroniebla.com
SUMMARY:Tim Mayer Y René Gonzalez con Cristobal Cortés Group
DESCRIPTION:
URL:https://foroniebla.com/eventos/tim-mayer-y-rene-gonzalez-con-cristobal-cortes-group/
LOCATION:Foro Niebla\, Sur 11 #685 Col Centro\, Orizaba\, Veracruz\, 94300\, Mexico
CATEGORIES:Arte,Música
ATTACH;FMTTYPE=image/jpeg:https://foroniebla.com/wp-content/uploads/2025/02/TimMayerReneGonzalez.jpg
END:VEVENT
BEGIN:VEVENT
DTSTART;TZID=America/Mexico_City:20250321T210000
DTEND;TZID=America/Mexico_City:20250321T223000
DTSTAMP:20260425T094304
CREATED:20250314T184027Z
LAST-MODIFIED:20250314T184027Z
UID:1412-1742590800-1742596200@foroniebla.com
SUMMARY:Cristobal Cortés Group y Kalata Sax en Marzo
DESCRIPTION:
URL:https://foroniebla.com/eventos/cristobal-cortes-group-y-kalata-sax-en-marzo/
CATEGORIES:Arte,Música
ATTACH;FMTTYPE=image/jpeg:https://foroniebla.com/wp-content/uploads/2025/03/CC-Final.jpg
END:VEVENT
BEGIN:VEVENT
DTSTART;TZID=America/Mexico_City:20250328T210000
DTEND;TZID=America/Mexico_City:20250328T223000
DTSTAMP:20260425T094304
CREATED:20250324T222851Z
LAST-MODIFIED:20250324T223143Z
UID:1417-1743195600-1743201000@foroniebla.com
SUMMARY:Ian Skorscha
DESCRIPTION:
URL:https://foroniebla.com/eventos/ian-skorscha/
CATEGORIES:Arte,Música
ATTACH;FMTTYPE=image/jpeg:https://foroniebla.com/wp-content/uploads/2025/03/IanS.jpg
END:VEVENT
BEGIN:VEVENT
DTSTART;TZID=America/Mexico_City:20250411T210000
DTEND;TZID=America/Mexico_City:20250411T230000
DTSTAMP:20260425T094304
CREATED:20250404T004806Z
LAST-MODIFIED:20250404T004806Z
UID:1423-1744405200-1744412400@foroniebla.com
SUMMARY:Ricardo Amadeus en concierto
DESCRIPTION:
URL:https://foroniebla.com/eventos/ricardo-amadeus-en-concierto/
LOCATION:Foro Niebla\, Sur 11 #685 Col Centro\, Orizaba\, Veracruz\, 94300\, Mexico
CATEGORIES:Arte,Música
ATTACH;FMTTYPE=image/jpeg:https://foroniebla.com/wp-content/uploads/2025/04/RicardoAmadeus.jpg
END:VEVENT
BEGIN:VEVENT
DTSTART;TZID=America/Mexico_City:20250508T160000
DTEND;TZID=America/Mexico_City:20250710T200000
DTSTAMP:20260425T094304
CREATED:20250503T172528Z
LAST-MODIFIED:20250503T172528Z
UID:1430-1746720000-1752177600@foroniebla.com
SUMMARY:4 siglos de estampa maestra
DESCRIPTION:
URL:https://foroniebla.com/eventos/4-siglos-de-estampa-maestra/
LOCATION:Foro Niebla\, Sur 11 #685 Col Centro\, Orizaba\, Veracruz\, 94300\, Mexico
CATEGORIES:Arte,Pintura-Escultura
ATTACH;FMTTYPE=image/jpeg:https://foroniebla.com/wp-content/uploads/2025/05/Cartel_4siglos.jpg
END:VEVENT
BEGIN:VEVENT
DTSTART;TZID=America/Mexico_City:20250520T080000
DTEND;TZID=America/Mexico_City:20250530T170000
DTSTAMP:20260425T094304
CREATED:20250520T182452Z
LAST-MODIFIED:20250530T023044Z
UID:1434-1747728000-1748624400@foroniebla.com
SUMMARY:Olson Joseph
DESCRIPTION:
URL:https://foroniebla.com/eventos/olson-joseph/
LOCATION:Foro Niebla\, Sur 11 #685 Col Centro\, Orizaba\, Veracruz\, 94300\, Mexico
CATEGORIES:Arte,Música
ATTACH;FMTTYPE=image/jpeg:https://foroniebla.com/wp-content/uploads/2025/05/Cartel_2025_OlsonJoseph.jpg
END:VEVENT
BEGIN:VEVENT
DTSTART;TZID=America/Mexico_City:20250613T210000
DTEND;TZID=America/Mexico_City:20250613T230000
DTSTAMP:20260425T094304
CREATED:20250604T152636Z
LAST-MODIFIED:20250613T191232Z
UID:1552-1749848400-1749855600@foroniebla.com
SUMMARY:Aldemar Valentín Trío
DESCRIPTION:
URL:https://foroniebla.com/eventos/aldemar-valentin-trio/
CATEGORIES:Arte,Música
ATTACH;FMTTYPE=image/jpeg:https://foroniebla.com/wp-content/uploads/2025/06/AldemarValentin-Trio.jpg
END:VEVENT
BEGIN:VEVENT
DTSTART;TZID=America/Mexico_City:20250705T200000
DTEND;TZID=America/Mexico_City:20250705T220000
DTSTAMP:20260425T094304
CREATED:20250620T200624Z
LAST-MODIFIED:20250620T200624Z
UID:1611-1751745600-1751752800@foroniebla.com
SUMMARY:Terapia Íntima
DESCRIPTION:
URL:https://foroniebla.com/eventos/terapia-intima/
LOCATION:Foro Niebla\, Sur 11 #685 Col Centro\, Orizaba\, Veracruz\, 94300\, Mexico
CATEGORIES:Arte,Teatro
ATTACH;FMTTYPE=image/png:https://foroniebla.com/wp-content/uploads/2025/06/terapia_intima_poster.png
END:VEVENT
BEGIN:VEVENT
DTSTART;TZID=America/Mexico_City:20250717T170000
DTEND;TZID=America/Mexico_City:20250719T200000
DTSTAMP:20260425T094304
CREATED:20250620T185914Z
LAST-MODIFIED:20250620T185914Z
UID:1607-1752771600-1752955200@foroniebla.com
SUMMARY:Taller de Stencil Karas Urbanas
DESCRIPTION:
URL:https://foroniebla.com/eventos/taller-de-stencil-karas-urbanas/
LOCATION:Foro Niebla\, Sur 11 #685 Col Centro\, Orizaba\, Veracruz\, 94300\, Mexico
CATEGORIES:Arte,Pintura-Escultura
ATTACH;FMTTYPE=image/png:https://foroniebla.com/wp-content/uploads/2025/06/KarasUrbanas.png
END:VEVENT
BEGIN:VEVENT
DTSTART;TZID=America/Mexico_City:20250801T210000
DTEND;TZID=America/Mexico_City:20250801T230000
DTSTAMP:20260425T094304
CREATED:20250707T210322Z
LAST-MODIFIED:20250707T210322Z
UID:1650-1754082000-1754089200@foroniebla.com
SUMMARY:Emiliano Coronel en vivo en Orizaba
DESCRIPTION:
URL:https://foroniebla.com/eventos/emiliano-coronel-en-vivo-en-orizaba/
LOCATION:Foro Niebla\, Sur 11 #685 Col Centro\, Orizaba\, Veracruz\, 94300\, Mexico
CATEGORIES:Arte,Música
ATTACH;FMTTYPE=image/jpeg:https://foroniebla.com/wp-content/uploads/2025/07/Cartel_EmilianoCoronel.jpg
END:VEVENT
BEGIN:VEVENT
DTSTART;TZID=America/Mexico_City:20250805T170000
DTEND;TZID=America/Mexico_City:20250807T190000
DTSTAMP:20260425T094304
CREATED:20250724T015713Z
LAST-MODIFIED:20250724T015713Z
UID:1654-1754413200-1754593200@foroniebla.com
SUMMARY:Taller de Música y Letra
DESCRIPTION:
URL:https://foroniebla.com/eventos/taller-de-musica-y-letra/
LOCATION:Foro Niebla\, Sur 11 #685 Col Centro\, Orizaba\, Veracruz\, 94300\, Mexico
CATEGORIES:Arte,Música
ATTACH;FMTTYPE=image/jpeg:https://foroniebla.com/wp-content/uploads/2025/07/Cartel_Taller_Fanny.jpg
END:VEVENT
BEGIN:VEVENT
DTSTART;TZID=America/Mexico_City:20250822T210000
DTEND;TZID=America/Mexico_City:20250822T223000
DTSTAMP:20260425T094304
CREATED:20250804T192953Z
LAST-MODIFIED:20250804T193645Z
UID:1704-1755896400-1755901800@foroniebla.com
SUMMARY:Diego Maroto en Vivo en Orizaba
DESCRIPTION:
URL:https://foroniebla.com/eventos/diego-maroto-en-vivo-en-orizaba/
LOCATION:Foro Niebla\, Sur 11 #685 Col Centro\, Orizaba\, Veracruz\, 94300\, Mexico
CATEGORIES:Arte,Música
ATTACH;FMTTYPE=image/jpeg:https://foroniebla.com/wp-content/uploads/2025/08/Cartel_DiegoMaroto.jpg
END:VEVENT
BEGIN:VEVENT
DTSTART;TZID=America/Mexico_City:20250904T200000
DTEND;TZID=America/Mexico_City:20251031T200000
DTSTAMP:20260425T094304
CREATED:20250905T184011Z
LAST-MODIFIED:20250905T184011Z
UID:1728-1757016000-1761940800@foroniebla.com
SUMMARY:Gabriel Mendoza Exposición de Artes Plásticas
DESCRIPTION:
URL:https://foroniebla.com/eventos/gabriel-mendoza-exposicion-de-artes-plasticas/
LOCATION:Foro Niebla\, Sur 11 #685 Col Centro\, Orizaba\, Veracruz\, 94300\, Mexico
CATEGORIES:Arte,Pintura-Escultura
ATTACH;FMTTYPE=image/jpeg:https://foroniebla.com/wp-content/uploads/2025/09/Cartel_GabrielMendoza.jpg
END:VEVENT
BEGIN:VEVENT
DTSTART;TZID=America/Mexico_City:20250905T080000
DTEND;TZID=America/Mexico_City:20250919T200000
DTSTAMP:20260425T094304
CREATED:20250905T184435Z
LAST-MODIFIED:20250905T184435Z
UID:1731-1757059200-1758312000@foroniebla.com
SUMMARY:Adrián Terrazas concierto en vivo
DESCRIPTION:
URL:https://foroniebla.com/eventos/adrian-terrazas-concierto-en-vivo/
LOCATION:Foro Niebla\, Sur 11 #685 Col Centro\, Orizaba\, Veracruz\, 94300\, Mexico
CATEGORIES:Arte,Música
ATTACH;FMTTYPE=image/jpeg:https://foroniebla.com/wp-content/uploads/2025/09/AdrianTerrazas_19SEP25.jpg
END:VEVENT
BEGIN:VEVENT
DTSTART;TZID=America/Mexico_City:20251003T210000
DTEND;TZID=America/Mexico_City:20251003T230000
DTSTAMP:20260425T094304
CREATED:20250909T231932Z
LAST-MODIFIED:20250920T224919Z
UID:1736-1759525200-1759532400@foroniebla.com
SUMMARY:Edel Juárez en Orizaba
DESCRIPTION:
URL:https://foroniebla.com/eventos/edel-juarez-en-orizaba/
LOCATION:Foro Niebla\, Sur 11 #685 Col Centro\, Orizaba\, Veracruz\, 94300\, Mexico
CATEGORIES:Arte,Literatura,Música
ATTACH;FMTTYPE=image/jpeg:https://foroniebla.com/wp-content/uploads/2025/09/Cartel_EdelJuarez.jpg
END:VEVENT
BEGIN:VEVENT
DTSTART;TZID=America/Mexico_City:20251017T210000
DTEND;TZID=America/Mexico_City:20251017T230000
DTSTAMP:20260425T094304
CREATED:20251011T221243Z
LAST-MODIFIED:20251011T221243Z
UID:1786-1760734800-1760742000@foroniebla.com
SUMMARY:Rafael Alcalá y Cristobal Cortés Group
DESCRIPTION:
URL:https://foroniebla.com/eventos/rafael-alcala-y-cristobal-cortes-group/
LOCATION:Foro Niebla\, Sur 11 #685 Col Centro\, Orizaba\, Veracruz\, 94300\, Mexico
CATEGORIES:Arte,Música
ATTACH;FMTTYPE=image/jpeg:https://foroniebla.com/wp-content/uploads/2025/10/Cartel_RafaelAlcala.jpg
END:VEVENT
BEGIN:VEVENT
DTSTART;TZID=America/Mexico_City:20251107T210000
DTEND;TZID=America/Mexico_City:20251107T230000
DTSTAMP:20260425T094304
CREATED:20251028T235702Z
LAST-MODIFIED:20251029T000655Z
UID:1802-1762549200-1762556400@foroniebla.com
SUMMARY:Ana Pau & Looperto
DESCRIPTION:
URL:https://foroniebla.com/eventos/ana-pau-looperto/
LOCATION:Foro Niebla\, Sur 11 #685 Col Centro\, Orizaba\, Veracruz\, 94300\, Mexico
CATEGORIES:Arte,Música
ATTACH;FMTTYPE=image/jpeg:https://foroniebla.com/wp-content/uploads/2025/10/AnaPau_7Nov.jpg
END:VEVENT
BEGIN:VEVENT
DTSTART;TZID=America/Mexico_City:20251122T210000
DTEND;TZID=America/Mexico_City:20251122T230000
DTSTAMP:20260425T094304
CREATED:20251111T185950Z
LAST-MODIFIED:20251111T190043Z
UID:1815-1763845200-1763852400@foroniebla.com
SUMMARY:Henry Cole
DESCRIPTION:
URL:https://foroniebla.com/eventos/henry-cole/
LOCATION:Foro Niebla\, Sur 11 #685 Col Centro\, Orizaba\, Veracruz\, 94300\, Mexico
CATEGORIES:Arte,Música
ATTACH;FMTTYPE=image/jpeg:https://foroniebla.com/wp-content/uploads/2025/11/HenryCole_Cartel.jpg
END:VEVENT
END:VCALENDAR