BEGIN:VCALENDAR
VERSION:2.0
PRODID:-//Foro Niebla - ECPv6.15.18//NONSGML v1.0//EN
CALSCALE:GREGORIAN
METHOD:PUBLISH
X-WR-CALNAME:Foro Niebla
X-ORIGINAL-URL:https://foroniebla.com
X-WR-CALDESC:Eventos para Foro Niebla
REFRESH-INTERVAL;VALUE=DURATION:PT1H
X-Robots-Tag:noindex
X-PUBLISHED-TTL:PT1H
BEGIN:VTIMEZONE
TZID:America/Mexico_City
BEGIN:DAYLIGHT
TZOFFSETFROM:-0600
TZOFFSETTO:-0500
TZNAME:CDT
DTSTART:20210404T080000
END:DAYLIGHT
BEGIN:STANDARD
TZOFFSETFROM:-0500
TZOFFSETTO:-0600
TZNAME:CST
DTSTART:20211031T070000
END:STANDARD
BEGIN:DAYLIGHT
TZOFFSETFROM:-0600
TZOFFSETTO:-0500
TZNAME:CDT
DTSTART:20220403T080000
END:DAYLIGHT
BEGIN:STANDARD
TZOFFSETFROM:-0500
TZOFFSETTO:-0600
TZNAME:CST
DTSTART:20221030T070000
END:STANDARD
END:VTIMEZONE
BEGIN:VEVENT
DTSTART;TZID=America/Mexico_City:20220929T160000
DTEND;TZID=America/Mexico_City:20221002T233000
DTSTAMP:20260423T195931
CREATED:20220907T225356Z
LAST-MODIFIED:20220907T225441Z
UID:799-1664467200-1664753400@foroniebla.com
SUMMARY:Taller de Cine - Miguel Alcantud
DESCRIPTION:¿Te gusta el cine? y deseas adquirir los conocimientos de la mano de un director y guionista internacional de CINE y TEATRO. \n\n\nInscríbete a los extraordinarios talleres cinematográficos que organiza Microteatro Veracruz en Orizaba este próximo 30 de septiembre\, 1 y 2 de Octubre.\n\n\nSi deseas mayor información\, te invitamos a dar click en los siguientes enlaces:\n\n\nWorkshop de Director aspirante a director de cine y series\nhttps://foroniebla.com/…/Miguelalcantud_workshop_cine.pdf\n\n\nTraining para actores\nhttps://foroniebla.com/…/Miguelalcantud_workshop…
URL:https://foroniebla.com/eventos/taller-de-cine-miguel-alcantud/
LOCATION:Foro Niebla\, Sur 11 #685 Col Centro\, Orizaba\, Veracruz\, 94300\, Mexico
CATEGORIES:Cine
ATTACH;FMTTYPE=image/jpeg:https://foroniebla.com/wp-content/uploads/2022/09/Cine02.jpeg
END:VEVENT
BEGIN:VEVENT
DTSTART;TZID=America/Mexico_City:20220929T180000
DTEND;TZID=America/Mexico_City:20221002T170000
DTSTAMP:20260423T195931
CREATED:20220904T174858Z
LAST-MODIFIED:20220904T175032Z
UID:787-1664474400-1664730000@foroniebla.com
SUMMARY:Clínica de Canto - Anali Gerardo
DESCRIPTION:
URL:https://foroniebla.com/eventos/clinica-de-canto-anali-gerardo/
LOCATION:Foro Niebla\, Sur 11 #685 Col Centro\, Orizaba\, Veracruz\, 94300\, Mexico
CATEGORIES:Música
ATTACH;FMTTYPE=image/jpeg:https://foroniebla.com/wp-content/uploads/2022/09/ClinicadeCanto-AnaliGerardo.jpeg
END:VEVENT
BEGIN:VEVENT
DTSTART;TZID=America/Mexico_City:20221022T200000
DTEND;TZID=America/Mexico_City:20221027T220000
DTSTAMP:20260423T195931
CREATED:20221018T000309Z
LAST-MODIFIED:20221018T000309Z
UID:861-1666468800-1666908000@foroniebla.com
SUMMARY:Sesión de Jazz en Octubre
DESCRIPTION:Sesión de Jazz en Octubre \nCristóbal Cortés Group & Chane Hernández
URL:https://foroniebla.com/eventos/sesion-de-jazz-en-octubre/
LOCATION:Foro Niebla\, Sur 11 #685 Col Centro\, Orizaba\, Veracruz\, 94300\, Mexico
CATEGORIES:Música
ATTACH;FMTTYPE=image/png:https://foroniebla.com/wp-content/uploads/2022/10/Cartel_Jazz_22Oct22.png
END:VEVENT
END:VCALENDAR