BEGIN:VCALENDAR
VERSION:2.0
PRODID:-//Foro Niebla - ECPv6.15.18//NONSGML v1.0//EN
CALSCALE:GREGORIAN
METHOD:PUBLISH
X-ORIGINAL-URL:https://foroniebla.com
X-WR-CALDESC:Eventos para Foro Niebla
REFRESH-INTERVAL;VALUE=DURATION:PT1H
X-Robots-Tag:noindex
X-PUBLISHED-TTL:PT1H
BEGIN:VTIMEZONE
TZID:America/Mexico_City
BEGIN:DAYLIGHT
TZOFFSETFROM:-0600
TZOFFSETTO:-0500
TZNAME:CDT
DTSTART:20210404T080000
END:DAYLIGHT
BEGIN:STANDARD
TZOFFSETFROM:-0500
TZOFFSETTO:-0600
TZNAME:CST
DTSTART:20211031T070000
END:STANDARD
BEGIN:DAYLIGHT
TZOFFSETFROM:-0600
TZOFFSETTO:-0500
TZNAME:CDT
DTSTART:20220403T080000
END:DAYLIGHT
BEGIN:STANDARD
TZOFFSETFROM:-0500
TZOFFSETTO:-0600
TZNAME:CST
DTSTART:20221030T070000
END:STANDARD
END:VTIMEZONE
BEGIN:VEVENT
DTSTART;TZID=America/Mexico_City:20221104T210000
DTEND;TZID=America/Mexico_City:20221104T230000
DTSTAMP:20260423T224023
CREATED:20221020T202454Z
LAST-MODIFIED:20221020T202523Z
UID:878-1667595600-1667602800@foroniebla.com
SUMMARY:Edel Juárez & Adrián Gil en convierto
DESCRIPTION:
URL:https://foroniebla.com/eventos/edel-juarez-adrian-gil-en-convierto/
LOCATION:Foro Niebla\, Sur 11 #685 Col Centro\, Orizaba\, Veracruz\, 94300\, Mexico
CATEGORIES:Música
ATTACH;FMTTYPE=image/jpeg:https://foroniebla.com/wp-content/uploads/2022/10/EdelYAdrian.jpeg
END:VEVENT
BEGIN:VEVENT
DTSTART;TZID=America/Mexico_City:20221118T200000
DTEND;TZID=America/Mexico_City:20221118T220000
DTSTAMP:20260423T224023
CREATED:20221114T164853Z
LAST-MODIFIED:20221114T164853Z
UID:920-1668801600-1668808800@foroniebla.com
SUMMARY:Sesión de JAZZ 18 de Nov de 22
DESCRIPTION:
URL:https://foroniebla.com/eventos/sesion-de-jazz-18-de-nov-de-22/
LOCATION:Foro Niebla\, Sur 11 #685 Col Centro\, Orizaba\, Veracruz\, 94300\, Mexico
CATEGORIES:Música
ATTACH;FMTTYPE=image/png:https://foroniebla.com/wp-content/uploads/2022/11/JazzCartel18.png
END:VEVENT
END:VCALENDAR