BEGIN:VCALENDAR
VERSION:2.0
PRODID:-//Foro Niebla - ECPv6.15.18//NONSGML v1.0//EN
CALSCALE:GREGORIAN
METHOD:PUBLISH
X-ORIGINAL-URL:https://foroniebla.com
X-WR-CALDESC:Eventos para Foro Niebla
REFRESH-INTERVAL;VALUE=DURATION:PT1H
X-Robots-Tag:noindex
X-PUBLISHED-TTL:PT1H
BEGIN:VTIMEZONE
TZID:America/Mexico_City
BEGIN:DAYLIGHT
TZOFFSETFROM:-0600
TZOFFSETTO:-0500
TZNAME:CDT
DTSTART:20220403T080000
END:DAYLIGHT
BEGIN:STANDARD
TZOFFSETFROM:-0500
TZOFFSETTO:-0600
TZNAME:CST
DTSTART:20221030T070000
END:STANDARD
END:VTIMEZONE
BEGIN:VEVENT
DTSTART;TZID=America/Mexico_City:20230905T200000
DTEND;TZID=America/Mexico_City:20230905T213000
DTSTAMP:20260423T012103
CREATED:20230823T190416Z
LAST-MODIFIED:20230823T190416Z
UID:1104-1693944000-1693949400@foroniebla.com
SUMMARY:Mil Puentes en Concierto
DESCRIPTION:
URL:https://foroniebla.com/eventos/mil-puentes-en-concierto/
CATEGORIES:Música
ATTACH;FMTTYPE=image/jpeg:https://foroniebla.com/wp-content/uploads/2023/08/MilPuentes.jpg
END:VEVENT
END:VCALENDAR