BEGIN:VCALENDAR
VERSION:2.0
PRODID:-//Foro Niebla - ECPv6.15.18//NONSGML v1.0//EN
CALSCALE:GREGORIAN
METHOD:PUBLISH
X-ORIGINAL-URL:https://foroniebla.com
X-WR-CALDESC:Eventos para Foro Niebla
REFRESH-INTERVAL;VALUE=DURATION:PT1H
X-Robots-Tag:noindex
X-PUBLISHED-TTL:PT1H
BEGIN:VTIMEZONE
TZID:America/Mexico_City
BEGIN:DAYLIGHT
TZOFFSETFROM:-0600
TZOFFSETTO:-0500
TZNAME:CDT
DTSTART:20220403T080000
END:DAYLIGHT
BEGIN:STANDARD
TZOFFSETFROM:-0500
TZOFFSETTO:-0600
TZNAME:CST
DTSTART:20221030T070000
END:STANDARD
END:VTIMEZONE
BEGIN:VEVENT
DTSTART;TZID=America/Mexico_City:20230203T200000
DTEND;TZID=America/Mexico_City:20230203T220000
DTSTAMP:20260423T122413
CREATED:20230120T180210Z
LAST-MODIFIED:20230120T180210Z
UID:960-1675454400-1675461600@foroniebla.com
SUMMARY:Noche de Jazz - Cristobal Cortés Group e Invitada Especial
DESCRIPTION:
URL:https://foroniebla.com/eventos/noche-de-jazz-cristobal-cortes-group-e-invitada-especial/
LOCATION:Foro Niebla\, Sur 11 #685 Col Centro\, Orizaba\, Veracruz\, 94300\, Mexico
CATEGORIES:Música
ATTACH;FMTTYPE=image/jpeg:https://foroniebla.com/wp-content/uploads/2023/01/CristobalCortes.jpeg
END:VEVENT
BEGIN:VEVENT
DTSTART;TZID=America/Mexico_City:20230211T200000
DTEND;TZID=America/Mexico_City:20230211T220000
DTSTAMP:20260423T122413
CREATED:20230120T181456Z
LAST-MODIFIED:20230120T181456Z
UID:964-1676145600-1676152800@foroniebla.com
SUMMARY:Mirella Cesa - Tour México 2023
DESCRIPTION:
URL:https://foroniebla.com/eventos/mirella-cesa-tour-mexico-2023/
LOCATION:Foro Niebla\, Sur 11 #685 Col Centro\, Orizaba\, Veracruz\, 94300\, Mexico
CATEGORIES:Música
ATTACH;FMTTYPE=image/jpeg:https://foroniebla.com/wp-content/uploads/2023/01/MirellaCesa.jpeg
END:VEVENT
BEGIN:VEVENT
DTSTART;TZID=America/Mexico_City:20230225T200000
DTEND;TZID=America/Mexico_City:20230225T230000
DTSTAMP:20260423T122413
CREATED:20230223T011544Z
LAST-MODIFIED:20230223T011756Z
UID:969-1677355200-1677366000@foroniebla.com
SUMMARY:Carla Rivarola
DESCRIPTION:Carla Rivarola en concierto en FORO NIEBLA
URL:https://foroniebla.com/eventos/carla-rivarola/
CATEGORIES:Música
ATTACH;FMTTYPE=image/jpeg:https://foroniebla.com/wp-content/uploads/2023/02/CarlaRivarola.jpeg
END:VEVENT
END:VCALENDAR