BEGIN:VCALENDAR
VERSION:2.0
PRODID:-//Foro Niebla - ECPv6.15.18//NONSGML v1.0//EN
CALSCALE:GREGORIAN
METHOD:PUBLISH
X-ORIGINAL-URL:https://foroniebla.com
X-WR-CALDESC:Eventos para Foro Niebla
REFRESH-INTERVAL;VALUE=DURATION:PT1H
X-Robots-Tag:noindex
X-PUBLISHED-TTL:PT1H
BEGIN:VTIMEZONE
TZID:America/Mexico_City
BEGIN:DAYLIGHT
TZOFFSETFROM:-0600
TZOFFSETTO:-0500
TZNAME:CDT
DTSTART:20220403T080000
END:DAYLIGHT
BEGIN:STANDARD
TZOFFSETFROM:-0500
TZOFFSETTO:-0600
TZNAME:CST
DTSTART:20221030T070000
END:STANDARD
END:VTIMEZONE
BEGIN:VEVENT
DTSTART;TZID=America/Mexico_City:20230128T210000
DTEND;TZID=America/Mexico_City:20230128T220000
DTSTAMP:20260423T134944
CREATED:20221220T184922Z
LAST-MODIFIED:20221220T185829Z
UID:947-1674939600-1674943200@foroniebla.com
SUMMARY:Lazcano Malo en concierto
DESCRIPTION:Para reservar tus lugares\, comunicarte al teléfono 271 238 8433
URL:https://foroniebla.com/eventos/lazcano-malo-en-concierto/
LOCATION:Foro Niebla\, Sur 11 #685 Col Centro\, Orizaba\, Veracruz\, 94300\, Mexico
CATEGORIES:Música
ATTACH;FMTTYPE=image/jpeg:https://foroniebla.com/wp-content/uploads/2022/12/WhatsApp-Image-2022-12-12-at-11.15.57.jpeg
END:VEVENT
END:VCALENDAR