BEGIN:VCALENDAR
VERSION:2.0
PRODID:-//Foro Niebla - ECPv6.15.18//NONSGML v1.0//EN
CALSCALE:GREGORIAN
METHOD:PUBLISH
X-WR-CALNAME:Foro Niebla
X-ORIGINAL-URL:https://foroniebla.com
X-WR-CALDESC:Eventos para Foro Niebla
REFRESH-INTERVAL;VALUE=DURATION:PT1H
X-Robots-Tag:noindex
X-PUBLISHED-TTL:PT1H
BEGIN:VTIMEZONE
TZID:America/Mexico_City
BEGIN:DAYLIGHT
TZOFFSETFROM:-0600
TZOFFSETTO:-0500
TZNAME:CDT
DTSTART:20210404T080000
END:DAYLIGHT
BEGIN:STANDARD
TZOFFSETFROM:-0500
TZOFFSETTO:-0600
TZNAME:CST
DTSTART:20211031T070000
END:STANDARD
BEGIN:DAYLIGHT
TZOFFSETFROM:-0600
TZOFFSETTO:-0500
TZNAME:CDT
DTSTART:20220403T080000
END:DAYLIGHT
BEGIN:STANDARD
TZOFFSETFROM:-0500
TZOFFSETTO:-0600
TZNAME:CST
DTSTART:20221030T070000
END:STANDARD
END:VTIMEZONE
BEGIN:VEVENT
DTSTART;TZID=America/Mexico_City:20221208T200000
DTEND;TZID=America/Mexico_City:20221208T220000
DTSTAMP:20260423T152132
CREATED:20221114T182646Z
LAST-MODIFIED:20221114T182646Z
UID:924-1670529600-1670536800@foroniebla.com
SUMMARY:Diego Ojeda en concierto
DESCRIPTION:Diego Ojeda en concierto \n8 de Diciembre de 2022\nAcceso: 20 hrs
URL:https://foroniebla.com/eventos/diego-ojeda-en-concierto/
LOCATION:Foro Niebla\, Sur 11 #685 Col Centro\, Orizaba\, Veracruz\, 94300\, Mexico
CATEGORIES:Música
ATTACH;FMTTYPE=image/jpeg:https://foroniebla.com/wp-content/uploads/2022/11/WhatsApp-Image-2022-11-02-at-17.45.33.jpeg
END:VEVENT
BEGIN:VEVENT
DTSTART;TZID=America/Mexico_City:20221228T200000
DTEND;TZID=America/Mexico_City:20221228T220000
DTSTAMP:20260423T152132
CREATED:20221220T182522Z
LAST-MODIFIED:20221220T182851Z
UID:943-1672257600-1672264800@foroniebla.com
SUMMARY:Michis Band Concierto de Jazz
DESCRIPTION:
URL:https://foroniebla.com/eventos/michis-band-concierto-de-jazz/
CATEGORIES:Música
ATTACH;FMTTYPE=image/png:https://foroniebla.com/wp-content/uploads/2022/12/28DIC22_MichisBand.png
END:VEVENT
END:VCALENDAR