BEGIN:VCALENDAR
VERSION:2.0
PRODID:-//Foro Niebla - ECPv6.15.18//NONSGML v1.0//EN
CALSCALE:GREGORIAN
METHOD:PUBLISH
X-ORIGINAL-URL:https://foroniebla.com
X-WR-CALDESC:Eventos para Foro Niebla
REFRESH-INTERVAL;VALUE=DURATION:PT1H
X-Robots-Tag:noindex
X-PUBLISHED-TTL:PT1H
BEGIN:VTIMEZONE
TZID:America/Mexico_City
BEGIN:DAYLIGHT
TZOFFSETFROM:-0600
TZOFFSETTO:-0500
TZNAME:CDT
DTSTART:20210404T080000
END:DAYLIGHT
BEGIN:STANDARD
TZOFFSETFROM:-0500
TZOFFSETTO:-0600
TZNAME:CST
DTSTART:20211031T070000
END:STANDARD
BEGIN:DAYLIGHT
TZOFFSETFROM:-0600
TZOFFSETTO:-0500
TZNAME:CDT
DTSTART:20220403T080000
END:DAYLIGHT
BEGIN:STANDARD
TZOFFSETFROM:-0500
TZOFFSETTO:-0600
TZNAME:CST
DTSTART:20221030T070000
END:STANDARD
END:VTIMEZONE
BEGIN:VEVENT
DTSTART;TZID=America/Mexico_City:20220805T200000
DTEND;TZID=America/Mexico_City:20220807T210000
DTSTAMP:20260423T212349
CREATED:20220803T005042Z
LAST-MODIFIED:20220803T005042Z
UID:752-1659729600-1659906000@foroniebla.com
SUMMARY:Microteatro - Por la vida
DESCRIPTION:
URL:https://foroniebla.com/eventos/microteatro-por-la-vida/
LOCATION:Foro Niebla\, Sur 11 #685 Col Centro\, Orizaba\, Veracruz\, 94300\, Mexico
CATEGORIES:Teatro
ATTACH;FMTTYPE=image/jpeg:https://foroniebla.com/wp-content/uploads/2022/08/WhatsApp-Image-2022-08-02-at-7.21.20-PM.jpeg
END:VEVENT
BEGIN:VEVENT
DTSTART;TZID=America/Mexico_City:20220812T190000
DTEND;TZID=America/Mexico_City:20220918T210000
DTSTAMP:20260423T212349
CREATED:20220802T163849Z
LAST-MODIFIED:20220904T193502Z
UID:745-1660330800-1663534800@foroniebla.com
SUMMARY:Exposición de Arte - Retrospectiva Rosendo Pinacho
DESCRIPTION:Exposición de Artes Plásticas\nRetrospectiva Rosendo Pinacho\nDel 12 de Agosto al 18 de septiembre\nHorario de 10:00 a 18:00 hrs\nEntrada Gratuita
URL:https://foroniebla.com/eventos/exposicion-de-arte-retrospectiva-rosendo-pinacho/
LOCATION:Foro Niebla\, Sur 11 #685 Col Centro\, Orizaba\, Veracruz\, 94300\, Mexico
CATEGORIES:Pintura-Escultura
ATTACH;FMTTYPE=image/jpeg:https://foroniebla.com/wp-content/uploads/2022/08/InvitacionForo.jpg
END:VEVENT
BEGIN:VEVENT
DTSTART;TZID=America/Mexico_City:20220819T200000
DTEND;TZID=America/Mexico_City:20220819T213000
DTSTAMP:20260423T212349
CREATED:20220802T175551Z
LAST-MODIFIED:20220802T175551Z
UID:748-1660939200-1660944600@foroniebla.com
SUMMARY:Club de Jazz - Cristóbal Cortés Trío
DESCRIPTION:Fecha: 19 de agosto de 2022 \nDonativo: $50 pesos\nHorario: 20:00 hrs
URL:https://foroniebla.com/eventos/club-de-jazz-cristobal-cortes-trio/
LOCATION:Foro Niebla\, Sur 11 #685 Col Centro\, Orizaba\, Veracruz\, 94300\, Mexico
CATEGORIES:Música
ATTACH;FMTTYPE=image/jpeg:https://foroniebla.com/wp-content/uploads/2022/08/Cartel_ClubDeJazz_19Agosto22.jpg
END:VEVENT
END:VCALENDAR